Workbook
Name _10oeobq356nz: #REF!
Name _1217ddrpaek2: #REF!
Name _15q8sqgihaqd: #REF!
Name _22lo53k8szp9: #REF!
Name _3yd8qdp8rhry: #REF!
Name _4sttysxrrgah: #REF!
Name _502iyh62uckq: #REF!
Name _68r1501l45bh: #REF!
Name _6csokqy1mqk8: #REF!
Name _a7oh2cltw3tr: #REF!
Name _asjzk94drrdi: #REF!
Name _bprpykl1fdy: #REF!
Name _cx6mdqbyjc: #REF!
Name _cyqpqeldn8gr: #REF!
Name _d3geo1hwpivk: #REF!
Name _d4izz35b4xrh: #REF!
Name _d8fhossl3smp: #REF!
Name _ee5okuf4hao9: #REF!
Name _eocvcd5cr0xd: #REF!
Name _ewqp6qw8t73s: #REF!
Name _f6ykgi5rprnl: #REF!
Name _f8isgvx3ff4c: #REF!
Name _hm364bku4y7c: #REF!
Name _hyux8hhr1uqi: 'COVER PAGE'!$D$31
Name _ih2cjzwvlvhp: 'COVER PAGE'!$D$30
Name _iwrjnx7vs1m1: #REF!
Name _izbvr9lqez5n: #REF!
Name _jrnd2smziw2u: #REF!
Name _jzk3s0tkdtpe: #REF!
Name _k4sbzx59mtw: #REF!
Name _ke1uhn46eh7y: #REF!
Name _lfmthsfxip1u: #REF!
Name _oog7l11vsesv: #REF!
Name _p8mu8cjs5y8c: #REF!
Name _p9uicasmsi43: #REF!
Name _pn0hvptejmzu: #REF!
Name _povwh5qaqc7b: #REF!
Name _py45lgxxj6uj: #REF!
Name _qbyiztrzpf7v: #REF!
Name _qluyk9u5ozsg: #REF!
Name _qucagltke3jn: #REF!
Name _r6y81tbpk9ex: #REF!
Name _rivuimia18mc: #REF!
Name _sicqkaly6y5f: #REF!
Name _t2wwpkb2lnvc: #REF!
Name _uztka8tx4hd: #REF!
Name _v9b960mgbe0d: #REF!
Name _vwjdq32xvokf: #REF!
Name _wz3l2jc7o6i5: #REF!

Sheet COVER PAGE
A14: Somalia Sustainable Fisheries Development Project
A20: Construction Banadir Regional Administration of Fisheries Departments at Banadir, Somalia
A24: BILL OF QUANTITIES

Sheet PREAMBLES AND PRICING NOTES
A2: ='[1]PREAMBLES AND PRICING NOTES'!A2 -> Somalia Sustainable Fisheries Development Project
A4: PREAMBLE AND PRICING NOTES
A6: Construction Banadir Regional Administration of Fisheries Departments at Banadir, Somalia
A9: Introduction
A10: These price notes form part of the Bills of Quantities.
A11: The Permanent Works shall be measured notwithstanding any general or local custom except where otherwise specifically described or prescribed in the Contract.
A12: The rates and prices in the Bill of Quantities shall, except where otherwise provided in the Contract, cover all the Contractor's obligations under the Contract and all matters and things necessary for the proper execution and maintenance of the Works.
A13: The items provided in the Bill of Quantities shall be the only items against which payment shall be made, except that where additional items are required in respect of authorized additional works, payments may be made against such additional items.
A15: The Contractor shall be deemed to have included in his rates entered against the items in the Bill of Quantities for all activities necessary to complete the Contract Works, including any items of Work, which, in his opinion has been omitted from the Bill of Quantities.
A17: Except where otherwise detailed in the Bill of Quantities or specified, labor, including the supervision thereof, materials, Constructional Plant, Temporary Works, transport to and from the Site and in and about the Works, laboratory testing and other things of every kind required for the execution and maintenance of the Works shall not be measured and the cost thereof shall be deemed to be included in the rates and prices in the Bill of Quantities.
A19: The total quantity included in the final measurement of each item shall be measured to the nearest integer relative to that item, or to one decimal place if so indicated in the Bill of Quantities.
A21: The following abbreviations are used in the Bill of Quantities:
A23: LM:Shall mean Linear Meters
... A237: All works are measured and classified in accordance to the rules of Standard Method of Measurement -SMM7 and therefore, any variation or disputed quantities SHALL be measured and classified the same for purpose of pricing.

Sheet BILL NO - 1 PRELIMINARY
A1: ='[1]PREAMBLES AND PRICING NOTES'!A2 -> Somalia Sustainable Fisheries Development Project
A3: ITEM | B3: DESCRIPTION | C3: QTY | D3: UNIT | E3: RATE (USD) | F3: AMOUNT (USD)
B5: Construction Banadir Regional Administration of Fisheries Departments at Banadir, Somalia
B7: PRELIMINARIES
A9: A | B9: General Notes
B10: All the Bidders are requested to refer Pricing Preamble and notes. The works items of this Bills of Quantities shall be priced to fulfill the requirements therein. Also see that no page or items are missing prior to pricing of this bill of quantities.
B12: A list of typical general items are given below and the Bidder is advised to price only those items that may affect this Contract. | C12: Note
B14: The Bidder is advised to visit the site of the proposed work, as it is his responsibility to ascertain the conditions governing access to the site, and external working space, storage area etc. | C14: Note
B16: If no price has been stated against any item hereunder, the Contractor shall not be entitled to claim any money for such items even though he is obliged to execute the work or provide services described therein. Preliminary items priced by the Tenderer are deemed to include the cost of unpriced items. | C16: Note
B18: The Bidder is advised to refer to the General Notes, Pricing Preambles, Drawings, Specifications, Conditions of Contract, Particular Conditions of Contract and other relevant documents prior to pricing of the following items. | C18: Note
B20: Any cost and expenses in connection with any other preliminary item which is not listed below, but is necessary for the due completion of works, is deemed to be included in the tender rates. | C20: Note
B22: Mechanical plant and equipment which emits excessive noise, smoke, fumes, obnoxious gases etc., will not be allowed to be used in the Site, without the prior approval of the Engineer. | C22: Note
B24: The contractor shall be responsible for any loss or damage to the works, existing structures, adjoining structures and unfixed materials. | C24: Note
B26: The contractor shall try to locate the new units in a way to avoid cutting down trees, If it is really needed to cut down any number of trees, allow for planting same number of trees – Contractor has to take care about watering and maintenance of plants until the same is able to withstand the natural climate / environment. Notwithstanding the foregoing, the contractor shall locate the new units in accordance with the site plan. | C26: Note
B28: The contractor will be required throughout the contract to maintain and keep from obstructing the existing way. | C28: Note
B30: The Contractor shall be responsible for the provision of all materials, scaffolding, tools, plant, transport and workmen required for the works except in so far as may be stated otherwise herein and he shall allow for the provision of the foregoing except for such items specifically and only required for the use of nominated Sub-Contractors as described herein. | C30: Note
B32: All such plant, tools and scaffolding shall comply with all regulations whether general or local in force throughout the period of the contract and shall be altered or adapted during the contract, as may be necessary to comply with any amendments in or additions to such regulations. | C32: Note
B34: The Contractor shall adhere to both the local and international Occupational Health and Safety regulations while working at the site. | C34: Note
... B38: Contractor shall take special care for safety of the patients, staff and public during transportation of materials and implementation of the contract. | C38: Note
A40: B | B40: Site Location
B41: The site layout drawing showing the area allocated to the projects, the existing services and the proposed works to be constructed. | C41: Note
B43: The Employer has carried out several investigations works to provide site and project specific data and information to the bidder as included with the tender documents. | C43: Note
B45: The Contractor is not relieved from his obligations to carry out all investigations necessary to inform him fully. the information given with the tender documents shall only be taken as a guidance for detailed investigations and studies to be performed by the Contractor. | C45: Note
A47: C | B47: Description of the Works
B48: The works to be carried out under this contract involves the re-construction of One (1) Moternal and Chield (MCH) Facility at MAKARIYEY -BELET HAWO DISTRICT, JUBBALAND STATE SOMALIA COUNTRY and shall include but not limited to the following; A. PRELIMINARIES i. Installation of temporary site office facilities. ii. Provision of Water and electricity for the works iii. Demolition works iv. Demobilization and Clearing up of the site. v. Supply and installation of a sign post and hoarding B. MCH FACILITY BUILDING AND FACILITIES BLOCKS vi.. Substructure works vii. Concrete Superstructure works, vii. Masonry Walling viii. External and Internal wall finishes ix. Floor finishes x. External pavements. xi. Doors, windows and permanent ventilations xii. Rainwater goods. xiii. Worktops (reinforced concrete and stainless steel worktops and accessories) xiv. Building fixtures and fittings xv. Electrical and mechanical building services xvi. Testing and commissioning. | C48: Note
A50: D | B50: Access to Site and Temporary Roads
B52: The site can be accessed by the following transport services; (a) Malkariyeye is located approximately 8km towards north direction of Belet Hawa Town, Somalia Country. (b) It is located along the border of Kenya to the West, Ethiopia to the Northwest, Dolow to the Northeast, El-Wak to the Southwest, Luuq to the East and Garboharey to the Southeast. | C52: Note
B54: The designated construction access shall be agreed with the Engineer and the client prior to the commencement of the works. Upon completion of the Works, the Contractor shall remove such temporary access roads. | C54: Note
A56: E | B56: Contractor's superintendence/site agent
B57: The Contractor shall constantly keep on the works a literate English speaking Agent or Representative, competent and experienced in the kind of work involved who shall give his whole experience in the kind of work involved and shall give his whole time to the superintendence of the works. Such Agent or Representative shall receive on behalf of the Contractor all directions and instructions from the Engineer and such directions shall be deemed to have been given to the Contractor in accordance with the Conditions of contract | C57: Note
A59: F | B59: Plant, Material & Work Practices
B60: No work in any trade shall be carried out in such a manner as to cause any damage and nuisance to adjacent owners or the public. | C60: Note
B62: Mechanical plant and equipment which emits excessive noise, water, smoke, fumes, or obnoxious liquids, gases etc., will not be allowed to be used on the site. If the use of such machinery becomes necessary, the Contractor is expected to obtain prior approval. | C62: Note
B64: The Engineer has the discretion as to when he deems it necessary for the Contractor to take precautions, maintain or repair any such plant and equipment or order their removal from the site. | C64: Note
B66: Contractor shall provide specimens, samples and sample panels of material and testing of materials as appropriate and as directed by Engineer. | C66: Note
A68: G | B68: Temporary Site Facilities
B69: The contractor shall provide adequate space to serve as a temporary site office and fit it with the required facilities for his own site management staff as well as the Engineer/Engineer's Representative | D69: Item
B71: The contractor shall provide adequate space to serve as a temporary site stores or space for storage of plant and materials for the work herein. | D71: Item
B73: The contractor shall design such temporary site stores or space for storage of plant and materials in such a way that it maximize the use of space at site, and in such a way that it minimize obstruction. The Contractor shall as and when required relocate at his own expense, the temporary facilities as shall be directed by the Engineer, if such facilities are an obstruction to the Client. | D73: Item
B75: The contractor shall submit his designs/ drawings/ layouts for the temporary facilities to the Engineer for approvals before construction of such facilities | C75: Note
...

Sheet Ground Floor 
B2: Ground Floor
A3: Item | B3: Description | C3: Qty | D3: Unit | E3: Rate | F3: Total
E4: $ | F4: $
B5: General Items
B6: Provisional Sums
B7: Demolition and site clearance
B8: Site Clearance
A9: D110 | B9: General Clearance | C9: 289 | D9: m² | F9: =IF($D9="","",IF($D9="item",ROUND(1*$E9,2),ROUND($C9*$E9,2))) -> 0
B10: Earthworks
B11: Excavation for foundations
B12: Material other than topsoil, rock or artificial hard material
A13: E325 | B13: Bulk Excavation maximum depth: 1.5m | C13: 192 | D13: m³ | F13: =IF($D13="","",IF($D13="item",ROUND(1*$E13,2),ROUND($C13*$E13,2))) -> 0
B14: Column Base maximum depth: 1.5m | C14: 110 | D14: m³ | F14: =IF($D14="","",IF($D14="item",ROUND(1*$E14,2),ROUND($C14*$E14,2))) -> 0
B15: Foundation excavations for wall trench maximum depth: 1.5mx0.6m | C15: 54 | D15: m³ | F15: =IF($D15="","",IF($D15="item",ROUND(1*$E15,2),ROUND($C15*$E15,2))) -> 0
B16: Providing damp proofe membarane for excavated area | C16: 192 | D16: m² | F16: =IF($D16="","",IF($D16="item",ROUND(1*$E16,2),ROUND($C16*$E16,2))) -> 0
B17: Filling
B18: To structures
A19: E613 | B19: using the excavated materials - for footings | C19: 62 | D19: m³ | F19: =IF($D19="","",IF($D19="item",ROUND(1*$E19,2),ROUND($C19*$E19,2))) -> 0
A20: E615 | B20: Imported natural materials - for the ground floor | C20: 130 | D20: m3 | F20: =IF($D20="","",IF($D20="item",ROUND(1*$E20,2),ROUND($C20*$E20,2))) -> 0
B21: In Situ Concrete
B22: Placing of concrete grade C15- Mass
B23: Under the footings - as plain concrete
A24: F621 | B24: thickness: not exceeding 100 mm | C24: =(1.8*1.8*0.1*16)+(1.8*1.5*0.1*2)+(2.4*2.4*0.1*8) -> 10.332 | D24: m³ | F24: =IF($D24="","",IF($D24="item",ROUND(1*$E24,2),ROUND($C24*$E24,2))) -> 0
B25: Slab on grade
A26: F631 | B26: thickness: not exceeding 80 mm (with minmum reinforcement) - Weight of reinforcement 100 kg/m³ - Should be waterproofed ( Waterproofing Materials: Samples to be submitted for approval of the Engineer with the necessary documents prior to Commencement of Work.) | C26: 12.8 | D26: m³ | F26: =IF($D26="","",IF($D26="item",ROUND(1*$E26,2),ROUND($C26*$E26,2))) -> 0
B27: Placing of concrete grade C25 - Reinforced
B28: Bases, footings
A29: F723 | B29: thickness: 500 mm - Weight of reinforcement 80 kg/m³ - Should be waterproofed ( Waterproofing Materials: Samples to be submitted for approval of the Engineer with the necessary documents prior to Commencement of Work.) | C29: =(1.8*1.8*0.5*16)+(1.8*1.5*0.5*2)+(2.4*2.4*0.5*8) -> 51.66 | D29: m³ | F29: =IF($D29="","",IF($D29="item",ROUND(1*$E29,2),ROUND($C29*$E29,2))) -> 0
B30: Suspended slabs
A31: F732.01 | B31: thickness: 200 mm - 1st floor slab - Weight of reinforcement 150 kg/m³ | C31: 32.4 | D31: m³ | F31: =IF($D31="","",IF($D31="item",ROUND(1*$E31,2),ROUND($C31*$E31,2))) -> 0
A32: F732.02 | B32: thickness: 200 mm - Roof floor slab - Weight of reinforcement 150 kg/m³ | C32: 36 | D32: m³ | F32: =IF($D32="","",IF($D32="item",ROUND(1*$E32,2),ROUND($C32*$E32,2))) -> 0
A33: F732.03 | B33: thickness: 150 mm - Staircase cover slab - Weight of reinforcement 150 kg/m³ | C33: 6 | D33: m³ | F33: =IF($D33="","",IF($D33="item",ROUND(1*$E33,2),ROUND($C33*$E33,2))) -> 0
B34: To Collection | F34: =SUM(F5:F33) -> 0
B35: 45658
A36: Item | B36: Description | C36: Qty | D36: Unit | E36: Rate | F36: Total
E37: $ | F37: $
B38: Concrete Works
B39: Columns
A40: F753.03 | B40: cross-sectional area: 0.30x0.30 m² - as ground floor columns - Weight of reinforcement 200 kg/m³ | C40: 9.072 | D40: m³ | F40: =IF($D40="","",IF($D40="item",ROUND(1*$E40,2),ROUND($C40*$E40,2))) -> 0
A41: F753.04 | B41: cross-sectional area: 0.20x0.40 m² - as ground floor columns - Weight of reinforcement 200 kg/m³ | C41: 2.7 | D41: m³ | F41: =IF($D41="","",IF($D41="item",ROUND(1*$E41,2),ROUND($C41*$E41,2))) -> 0
...

Sheet 1st- Finishing
B1: First Floor
A2: Item | B2: Description | C2: Qty | D2: Unit | E2: Rate | F2: Total
E3: $ | F3: $
B5: Brickwork, Blockwork and Masonry
B6: Lightweight blockwork: Provide & Build concrete blocks in cement/sand mortar (1:6). Rates to include for key to columns and m.s. ties where necessary, details to be prepared by contractor for approval. All works are to be the satisfaction of the Engineer.
B7: Thickness: 150 - 250 mm
A8: U421 | B8: Vertical straight walls | C8: 220 | D8: m² | F8: =IF($D8="","",IF($D8="item",ROUND(1*$E8,2),ROUND($C8*$E8,2))) -> 0
B9: Painting
B10: Emulsion paint
B11: On Brickwork and blockwork plastering
A12: V567 | B12: Isolated groups of surfaces; walls: Provide & Apply prime coat, putty and two coats of plastic emulsion paint to be finished with Mat oil paint for internal walls. For external plastered surfaces 3 coats of emulsion paint finish to be applied by compressor, gun and rollers. Rates to include for all works as specified and complete in every respect to the satisfaction of the Engineer. | C12: 1350 | D12: m² | F12: =IF($D12="","",IF($D12="item",ROUND(1*$E12,2),ROUND($C12*$E12,2))) -> 0
B13: Waterproofing
A14: W500 | B14: Sprayed or brushed waterproofing; baths rooms | C14: 27 | D14: m² | F14: =IF($D14="","",IF($D14="item",ROUND(1*$E14,2),ROUND($C14*$E14,2))) -> 0
B15: Simple Building Works Incidental to Civil Engineering Works
B16: Windows, doors and glazing
B17: [Tenderers are advised to and must refer to Architectural Schedules before pricing this section]
B18: Timber
B19: Surface finishes, linings and partitions
B20: In situ finishes
A21: Z413 | B21: Walls; Plastering: Provide & Apply 20 mm thick cement/sand plaster (1:6) including all necessary angle beads, grooves, metal lath, and special treatment at joints, change of directions and between concrete and brick surfaces etc, application can be by machines. Rates shall include narrow widths and windows and doors jambs. Opening shall be deducted. All as specified and to the satisfaction of the Engineer. | C21: 1325 | D21: m² | F21: =IF($D21="","",IF($D21="item",ROUND(1*$E21,2),ROUND($C21*$E21,2))) -> 0
B22: Tiles: Provide & Fix floor tiles according to Drawings, Specifications and Instructions of the Engineer. Rates to include for cutting, bedding, backing in cement/sand mortar (1:6), glue , source Spain or equivalent, grouted in white cement, size and color to be approved by the Engineer, all complete as per Drawings & Specifications. Samples to be submitted for approval of the Engineer with the necessary documents prior to Commencement of Work.
A23: Z421 | B23: Floors tiles | C23: 130 | D23: m² | F23: =IF($D23="","",IF($D23="item",ROUND(1*$E23,2),ROUND($C23*$E23,2))) -> 0
A24: Z421 | B24: Stairs; including Risers, Steps and landings, first floor + rooftop | C24: 26 | D24: m² | F24: =IF($D24="","",IF($D24="item",ROUND(1*$E24,2),ROUND($C24*$E24,2))) -> 0
A25: Z423 | B25: Walls tiles | C25: 160 | D25: m² | F25: =IF($D25="","",IF($D25="item",ROUND(1*$E25,2),ROUND($C25*$E25,2))) -> 0
B27: To Collection | F27: =SUM(F5:F26) -> 0
F28: Total
F29: $
B30: Collection From
B31: 1/1 | F31: =$F$27 -> 0
B32: Bill Carried to Summary | F32: =SUM($F$31:$F$31) -> 0

Sheet MEP 
B1: MECHANICAL
A2: Item | B2: Description | C2: Qty | D2: Unit | E2: Rate | F2: Total
E3: $ | F3: $
B4: All Prices of items shall include supplying, constructing, installing, erecting, connecting and carring out all Required Testing. Unless otherwise indicated, all works are to be carried out according to drawings, specifications & Instructions of the Engineer. The Contractor is required to approve full coordinated work shop-drawings before starting Construction activities, the price shall also include all such works. Workmanship and Materials to be used shall , unless otherwise specified, comply with the Latest Editions of the Requirements as per Standards, Regulations, Recommendations, Codes of Practice etc, and Ammendments thereof.
B5: DISPOSAL SYSTEMS: Supply and install sanitary and stormwater drainage systems including pipes, fittings, traps, manholes, cleanouts, and connection to main network. As per drawings | C5: 1 | D5: Item | F5: =IF($D5="","",IF($D5="item",ROUND(1*$E5,2),ROUND($C5*$E5,2))) -> 0
B6: PIPED SUPPLY SYSTEMS: Supply and install cold and hot water piping, valves, pumps, meters, and fittings for potable and non-potable water systems. As per drawings | C6: 1 | D6: Item | F6: =IF($D6="","",IF($D6="item",ROUND(1*$E6,2),ROUND($C6*$E6,2))) -> 0
B7: MECHANICAL HEATING/COOLING/ REFRIGERATION SYSTEMS: Install HVAC and refrigeration systems including chillers, AHUs, ductwork, controls, and associated mechanical equipment. As per drawings | C7: 1 | D7: Item | F7: =IF($D7="","",IF($D7="item",ROUND(1*$E7,2),ROUND($C7*$E7,2))) -> 0
B8: ELECTRICAL SUPPLY/POWER/LIGHTING SYSTEMS: Install electrical distribution boards, wiring, conduits, lighting, sockets, switches, and backup power systems.as per drawings | C8: 1 | D8: Item | F8: =IF($D8="","",IF($D8="item",ROUND(1*$E8,2),ROUND($C8*$E8,2))) -> 0
B10: To Collection | F10: =SUM(F5:F9) -> 0
F12: Total
F13: $
B14: Collection From
B15: 1/1 | F15: =$F$10 -> 0
B16: Bill Carried to Summary | F16: =SUM($F$15:$F$15) -> 0

Sheet Services
B1: Services Rooms: Height: not exceeding 3.00 m
A2: Item | B2: Description | C2: Qty | D2: Unit | E2: Rate | F2: Total
E3: $ | F3: $
B4: lump sum works: as per drawings
B5: Roads and Pavings
B6: Concrete pavements
A7: R510 | B7: Unreinforced concrete surface: including the interlock area | C7: 160 | D7: m² | F7: =IF($D7="","",IF($D7="item",ROUND(1*$E7,2),ROUND($C7*$E7,2))) -> 0
B8: Miscellaneous Work
B9: Fences
B10: Concrete Structures
A11: X137.01 | B11: Guard observations towers: Height: exceeding 6.00 m; including external stairs | C11: 10 | D11: m² | F11: =IF($D11="","",IF($D11="item",ROUND(1*$E11,2),ROUND($C11*$E11,2))) -> 0
A12: X137.03 | B12: Main fence: Height: exceeding 3 m, thicness 0.20 m | C12: 68 | D12: m | F12: =IF($D12="","",IF($D12="item",ROUND(1*$E12,2),ROUND($C12*$E12,2))) -> 0
B13: Gates; main entrance | C13: 15 | D13: m² | F13: =IF($D13="","",IF($D13="item",ROUND(1*$E13,2),ROUND($C13*$E13,2))) -> 0
B14: To Collection | F14: =SUM(F5:F13) -> 0
F16: Total
F17: $
B18: Collection From
B19: 1/1 | F19: =$F$14 -> 0
B20: Bill Carried to Summary | F20: =SUM($F$19:$F$19) -> 0

Sheet SOLAR 
C3: Qty | D3: Unit | E3: Rate | F3: Total
A4: 1 | B4: STAND ALONE SOLAR PV SYSTEM; 12.3kw
B5: Supply, install, test and commision the following SPV system including all necessary accessories and required material to make the system complete; including operation and maintenance manual.
A6: 1.1 | B6: SPV module: Minimum cell capacity of 330WP; Mono/poly Crystalline silicon cell, terretrial ; cell size for 12.3kW, 48VPdc system voltage; complies to IEC 61215, IEC 61646 standards, type approved/certified ; poly/mono crystalline silicon | C6: 10 | D6: No. | F6: =E6*C6 -> 0
A7: 1.2 | B7: PV mounting racks module array made up of 9 PV panels of size 1.96m*0.99m all as per provided drawing. The Mounting racks for PV module array; solar panel support structure are to be made of Aluminium or galvanised steel , for roof top mounting structure SPM 03 pre galvanized or 550GSM SS hardware tilted at 30 degree,(with range of 3 degree) to 30 degree adjustability) facing to north including all its accessories; type approved | C7: 3 | D7: Set | F7: =E7*C7 -> 0
A8: 1.3 | B8: Ditto but made up of 10 pv panels of size 1.96m*0.99m or equivalent, all as per provided drawing. The Mounting racks for PV module array; solar panel support structure are to be made of Aluminium or galvanised steel , for roof top mounting structure SPM 03 pre galvanized or 550GSM SS hardware tilted at 30 degree,(with range of 3 degree) to 30 degree adjustability) facing to north including all its accessories; type approved | C8: 2 | D8: Set | F8: =E8*C8 -> 0
A9: 1.4 | B9: SPV module main Junction boxes (PV circuit combiner); Made of FRP or cast Aluminum/copper.; Copper bus bar/terminal blocks housed in the; junction box with suitable termination threads. ; Hinged door with EPDM rubber gasket to prevent water entry. Single compression cable glands and/or sleeves. Provision of earth system; Suitable capacity MOVs provided within the box to protect against lightening.( can ignore this if the MPPT is equipped with internal combiner); Confirming to IP65 Standards and and IEC 62208 | C9: 2 | D9: set | F9: =E9*C9 -> 0
A10: 1.5 | B10: Control Box: Floor mounted with rated capacity of ; 240/160A, 48Vdc (or better compatible with the designed system) consists of charge controller and bus bar, Fuses, relays and circuit breakers ;Including interconnection wiring, lugs, ties & related accessories. The box shall be floor mounted or wall mountable securedly fixed and shall have LCD display with light, SPD and all according to the technical specification and drawing ; type approved | C10: 2 | D10: set | F10: =E10*C10 -> 0
A11: 1.6 | B11: Hybrid Inverter; with integrated MPPT; 9kw @50hz, single phase 230V AC, pure sine wave, stand alone; operating efficiency ; of atleast 97% at 10% max load, and 99.5% at 100%; Max load. Total harmonic distorsion less than 3% on resistive load ;conforming to IEC 62109, IEC 62509 standards; and type approved/certified | C11: 2 | D11: set | F11: =E11*C11 -> 0
A12: 1.7 | B12: PV Battery bank (1495Ah, 48Vdc); VRLA , Gel type battery ; avarage Depth of Discharge (DOD) is 20%; discharge shall not exceed 3% per month ;Maximum allowable DOD in service shall be ; 80% with complete set of battery interconnection.; compliant to IEC-896-1 , IEC 60896-11, IEC 61427,IEC 2001:Ed.2, IEC 1362 Standards and type approved. | C12: 2 | D12: set | F12: =E12*C12 -> 0
A13: 1.8 | B13: Battery Rack/housing; well-ventilated, secure, acid and corrosion resistant box type with lockable door , including all necessary accessories shall be floor mounted and fixed over the floor; type approved | C13: 2 | D13: set | F13: =E13*C13 -> 0
A14: 1.9 | B14: Battery and PV wiring and connectors; including - Inter array connectors; Inter array wiring photovoltaic cable UV proof 2.5sqmm or better; Battery to controller wiring; Battery to inverter; type approved; all cables to be routed sheathed within 100mm x 100mm triunking throughout upto the inverter , battery bank and MDB. | C14: 2 | D14: set | F14: =E14*C14 -> 0
A15: 1.1 | B15: 100 x100 PVC trunking for array DC cable routing | C15: 60 | D15: m | F15: =E15*C15 -> 0
A16: 2 | B16: Lightening protection system | F16: =E16*C16 -> 0
B17: Supply, install, test and commision the following LPS system including all necessary accessories and required material to make the system complete | F17: =E17*C17 -> 0
A18: 2.1 | B18: Lightening protection system including rods or Air Terminals; down conductor,50mm2 with factory made upper and lower termination kits with test point junction boxes ; with Exothermic welding or C-clamp to reinforcement bars of the building soffit (from foundation to roof of the building) to grounding rods through 1x30mm2. | C18: 3 | D18: set | F18: =E18*C18 -> 0
A19: 2.2 | B19: Inspection pit 50x50x40cms with double brick wall and removable cast iron cover; | C19: 3 | D19: set | F19: =E19*C19 -> 0
A20: 2.3 | B20: Earthing rod diameter 16mm, 1600mm + radial copper tapes for lightning preventer, with rod coupler, rod to tape clamps, driving heads and all necessary accessories. Earthing rod termination should be CADWELD. with total system resistance not exceeding 5 ohms; as per provided design drawings. | C20: 3 | D20: set | F20: =E20*C20 -> 0
A21: 2.4 | B21: Earth Pit for Lighting Protection | C21: 3 | D21: L.s | F21: =E21*C21 -> 0
A22: 3 | B22: CONDUITS & PIPES | F22: =E22*C22 -> 0
A23: 3.1 | B23: PVC pipe of 50mm diameter. | C23: 100 | D23: m | F23: =E23*C23 -> 0
F24: =E24*C24 -> 0
A25: 4 | B25: Earthing and site reticulation | F25: =E25*C25 -> 0
B26: supply , install test and commission in accordance with local and international standards and as per design documents: | F26: =E26*C26 -> 0
A27: 4.1 | B27: Copper earthing rod of 1600x16mm inside earth pit of 400x400mm to achieve earth resistance of less than or equal to 5 Ohms; as per design documents | C27: 2 | D27: pcs | F27: =E27*C27 -> 0
A28: 4.2 | B28: copper conductor of 1x6 mm2 from main earthing bar inside MDB to copper grounding electrode (earthing rod) as per issued design documets | C28: 8 | D28: m | F28: =E28*C28 -> 0
A29: 4.3 | B29: Construct manholes of size size 400x400x500mm as per issued design documents. | C29: 5 | D29: pcs | F29: =E29*C29 -> 0
A30: 4.4. | B30: excavation of 50cm width by 70cm depth cable trench including cable laying as per provided detail drawings | C30: 20 | D30: m | F30: =E30*C30 -> 0
A31: 4.5 | B31: Supply and install warning tape for underground cable laying | C31: 20 | D31: m | F31: =E31*C31 -> 0
A32: 4.6 | B32: Supply and install UPVC 50 mm for site underground Electrical cable laying | C32: 15 | D32: m | F32: =E32*C32 -> 0
A33: 5 | B33: Training and documentation | F33: =E33*C33 -> 0
A34: 5.1 | B34: Provide operation and maintenance training to client staff , provide all O&M manuals and parts cataloges. | C34: 1 | D34: lsm | F34: =E34*C34 -> 0
B37: TOTAL AMOUNT FOR BILL NO - 8a US$ TO MAIN SUMMARY | F37: =SUM(F6:F36) -> 0

Sheet  MAIN SUMMARY
A1: Construction of Fisheries Office for Benadir Regional Administration (BRA) Fisheries Department
A3: BILL NO. | B3: DESCRIPTION | C3: AMOUNT (USD)
B7: SUMMARY
A11: 1 | B11: ='BILL NO - 1 PRELIMINARY'!B7 -> PRELIMINARIES | C11: ='BILL NO - 1 PRELIMINARY'!F164 -> 0
A15: 2 | B15: ='Ground Floor '!B2 -> Ground Floor | C15: ='Ground Floor '!F114 -> 0
A19: 3 | B19: ='1st- Finishing'!B1 -> First Floor | C19: ='1st- Finishing'!F32 -> 0
A23: 4 | B23: ='MEP '!B1 -> MECHANICAL | C23: ='MEP '!F16 -> 0
A27: 5 | B27: =Services!B1 -> Services Rooms: Height: not exceeding 3.00 m | C27: =Services!F20 -> 0
A31: 6 | B31: ='SOLAR '!B4 -> STAND ALONE SOLAR PV SYSTEM; 12.3kw | C31: ='SOLAR '!F37 -> 0
C36: =SUM(C9:C35) -> 0
A38: 10 | B38: CONTINGENCY COST & PROVISIONAL SUMS 10%
C39: =C36*10% -> 0
C40: =C39+C36 -> 0
B41: Tax | C41: =C40*5% -> 0
B43: GRAND TOTAL | C43: =C41+C40 -> 0
